BEGIN:VCALENDAR
VERSION:2.0
PRODID:-//Comunicantus - ECPv6.8.2.1//NONSGML v1.0//EN
CALSCALE:GREGORIAN
METHOD:PUBLISH
X-WR-CALNAME:Comunicantus
X-ORIGINAL-URL:https://comunicantus.eca.usp.br
X-WR-CALDESC:Eventos para Comunicantus
REFRESH-INTERVAL;VALUE=DURATION:PT1H
X-Robots-Tag:noindex
X-PUBLISHED-TTL:PT1H
BEGIN:VTIMEZONE
TZID:America/Sao_Paulo
BEGIN:STANDARD
TZOFFSETFROM:-0200
TZOFFSETTO:-0300
TZNAME:-03
DTSTART:20190217T020000
END:STANDARD
END:VTIMEZONE
BEGIN:VEVENT
DTSTART;TZID=America/Sao_Paulo:20191113T193000
DTEND;TZID=America/Sao_Paulo:20191113T193000
DTSTAMP:20260425T115608
CREATED:20191024T191912Z
LAST-MODIFIED:20191031T192102Z
UID:1078-1573673400-1573673400@comunicantus.eca.usp.br
SUMMARY:Projeto Sabiá Laranjeira - Coro de Câmara
DESCRIPTION:
URL:https://comunicantus.eca.usp.br/index.php/event/projeto-sabia-laranjeira-coro-de-camara/
CATEGORIES:Agenda interna,Coro de Câmara Comunicantus
END:VEVENT
BEGIN:VEVENT
DTSTART;TZID=America/Sao_Paulo:20191121T130000
DTEND;TZID=America/Sao_Paulo:20191121T130000
DTSTAMP:20260425T115608
CREATED:20191024T192233Z
LAST-MODIFIED:20191029T204549Z
UID:1080-1574341200-1574341200@comunicantus.eca.usp.br
SUMMARY:Concerto no Conselho de Graduação da USP - Coro de Câmara
DESCRIPTION:Aquecimento: 12h na Sala de Reunião do Conselho Universitário no prédio da Reitoria
URL:https://comunicantus.eca.usp.br/index.php/event/concerto-no-conselho-de-graduacao-da-usp-coro-de-camara/
CATEGORIES:Agenda interna,Coro de Câmara Comunicantus
END:VEVENT
BEGIN:VEVENT
DTSTART;VALUE=DATE:20191127
DTEND;VALUE=DATE:20191128
DTSTAMP:20260425T115608
CREATED:20190917T125106Z
LAST-MODIFIED:20191024T193734Z
UID:958-1574812800-1574899199@comunicantus.eca.usp.br
SUMMARY:Festival Comunicantus - Concerto de Abertura
DESCRIPTION:
URL:https://comunicantus.eca.usp.br/index.php/event/coral-da-eca-na-catedral-evangelica-de-sao-paulo/
LOCATION:Catedral Evangélica de São Paulo\, Rua Nestor Pestana\, 136\, São Paulo\, São Paulo\, 01303-010\, Brasil
CATEGORIES:Agenda interna,Coral da ECA-USP,Coro de Câmara Comunicantus
END:VEVENT
BEGIN:VEVENT
DTSTART;TZID=America/Sao_Paulo:20191127T130000
DTEND;TZID=America/Sao_Paulo:20191127T133000
DTSTAMP:20260425T115608
CREATED:20191104T193312Z
LAST-MODIFIED:20191104T193312Z
UID:1094-1574859600-1574861400@comunicantus.eca.usp.br
SUMMARY:Festival Comunicantus: Flash Mob
DESCRIPTION:O Coral da ECA-USP fará uma apresentação rápida no saguão da ECA-USP\, convidando a todos para assistirem aos outros eventos do Festival Comunicantus 2019. O Coral da ECA\, em sua história\, tem feito esse tipo de intervenção\, sempre bem acolhido. Venha participar deste momento descontraído e comemorativo da trajetória do professor Marco Antonio da Silva Ramos frente ao Coral da ECA\, que se encerra agora em 2019 (desde 1981!)\, com sua aposentadoria e ingresso no Programa Professor Sênior.
URL:https://comunicantus.eca.usp.br/index.php/event/festival-comunicantus-flash-mob/
LOCATION:Prédio Central da ECA\, Av. Prof. Lúcio Martins Rodrigues\, 443 - Butantã\, São Paulo\, São Paulo\, 05508-020\, Brasil
CATEGORIES:Agenda pública,Coral da ECA-USP
ATTACH;FMTTYPE=image/jpeg:https://comunicantus.eca.usp.br/wp-content/uploads/2019/11/73375621_3284228491619724_2281597162913529856_o.jpg
END:VEVENT
BEGIN:VEVENT
DTSTART;TZID=America/Sao_Paulo:20191127T200000
DTEND;TZID=America/Sao_Paulo:20191127T220000
DTSTAMP:20260425T115608
CREATED:20191104T193548Z
LAST-MODIFIED:20191104T193548Z
UID:1097-1574884800-1574892000@comunicantus.eca.usp.br
SUMMARY:Festival Comunicantus: Abertura
DESCRIPTION:O Festival Comunicantus\, em pareceria com a Catedral Evangélica de São Paulo\, fará um concerto especial comemorativo à trajetória do professor Marco Antonio da Silva Ramos como regente titular do Coral da ECA (de 1981 a 2019). A partir de 2020\, integrando o programa Professor Sênior\, o regente continuará a dirigir o Coro de Câmara Comunicantus.\nNeste concerto\, convidamos a todos os ex-coralistas do Coral da ECA que venham comemorar conosco e cantar o Tantum Ergo de Gabriel Fauré. No programa\, excertos da Petite Messe Solennelle de Rossini\, com participação de alunos de canto.\nAgradecimentos especiais à Catedral Evangélica e ao organista e professor José Luis de Aquino.
URL:https://comunicantus.eca.usp.br/index.php/event/festival-comunicantus-abertura/
LOCATION:Catedral Evangélica de São Paulo\, Rua Nestor Pestana\, 136\, São Paulo\, São Paulo\, 01303-010\, Brasil
CATEGORIES:Agenda pública,Coral da ECA-USP,Coro de Câmara Comunicantus
ATTACH;FMTTYPE=image/jpeg:https://comunicantus.eca.usp.br/wp-content/uploads/2019/11/74209233_3284257314950175_4032937586153488384_o.jpg
END:VEVENT
BEGIN:VEVENT
DTSTART;TZID=America/Sao_Paulo:20191129T193000
DTEND;TZID=America/Sao_Paulo:20191129T213000
DTSTAMP:20260425T115608
CREATED:20191104T194128Z
LAST-MODIFIED:20191104T194128Z
UID:1100-1575055800-1575063000@comunicantus.eca.usp.br
SUMMARY:Festival Comunicantus: Encerramento
DESCRIPTION:Encerramento do Festival 2019\, com três grupos do Comunicantus e um coro convidado do Coralusp. \nMadrigal Comunicantus\nCoral da 3a Idade da USP\nCoral Escola Comunicantus\nCoralusp Sestina \nUm evento com repertórios variados\, equipe de alunos regentes\, integração entre os diversos grupos da USP e seus públicos\, na festa de comemoração da aposentadoria e ingresso no Programa Professor Sênior do idealizador do Comunicantus\, professor Marco Antonio da Silva Ramos. Todos os ex-coralistas e ex-alunos estão convidados a compartilharem esse momento conosco.
URL:https://comunicantus.eca.usp.br/index.php/event/festival-comunicantus-encerramento/
LOCATION:Espaço das Artes\, São Paulo\, Brasil
CATEGORIES:Agenda pública,Coral da Terceira Idade da USP,Coral Escola Comunicantus,Madrigal Comunicantus
ATTACH;FMTTYPE=image/jpeg:https://comunicantus.eca.usp.br/wp-content/uploads/2019/11/75412304_3284246244951282_6036326107869872128_o.jpg
END:VEVENT
BEGIN:VEVENT
DTSTART;TZID=America/Sao_Paulo:20191206T110000
DTEND;TZID=America/Sao_Paulo:20191206T120000
DTSTAMP:20260425T115608
CREATED:20190924T190732Z
LAST-MODIFIED:20191024T190923Z
UID:993-1575630000-1575633600@comunicantus.eca.usp.br
SUMMARY:Coral da Terceira Idade da USP no programa Envelhecer Sorrindo da FOUSP
DESCRIPTION:Mais informações em breve.
URL:https://comunicantus.eca.usp.br/index.php/event/coral-da-terceira-idade-da-usp-no-programa-envelhecer-sorrindo-da-fousp/
LOCATION:CEPEUSP – Centro de Práticas Esportivas da USP\, Praça Professor Rubião Meira\, 61 - Vila Universitaria\, São Paulo\, São Paulo\, 05508-110\, Brasil
CATEGORIES:Agenda pública,Coral da Terceira Idade da USP
ATTACH;FMTTYPE=image/jpeg:https://comunicantus.eca.usp.br/wp-content/uploads/2019/03/IMG_4799.jpg
END:VEVENT
BEGIN:VEVENT
DTSTART;TZID=America/Sao_Paulo:20191210T190000
DTEND;TZID=America/Sao_Paulo:20191210T220000
DTSTAMP:20260425T115608
CREATED:20191210T160113Z
LAST-MODIFIED:20191210T161833Z
UID:1203-1576004400-1576015200@comunicantus.eca.usp.br
SUMMARY:Ensaio com CoralUSP no Auditório Camargo Guarnieri
DESCRIPTION:Agenda Completa\n\n\n\nAtividade\nData\nHorário\nLocal\n\n\nEnsaio com Coralusp\n10/12 (terça)\n19h-22h\nAnfiteatro Camargo Guarnieri\n\n\nEnsaio Geral 1 com Coralusp e orquestra\n11/12 (quarta)\n19h-22h\nAuditório CDI-USP\n\n\nEnsaio Geral 2 com Coralusp e orquestra\n12/12 (quinta)\n19h-22h\nAuditório CDI-USP\n\n\nConcerto\n14/12 (sábado)\nA confirmar\nSala São Paulo
URL:https://comunicantus.eca.usp.br/index.php/event/ensaio-com-coralusp-no-auditorio-camargo-guarnieri/
LOCATION:Anfiteatro Camargo Guarnieri\, R. do Anfiteatro\, 109 - Butantã\, São Paulo\, São Paulo\, 05508-060\, Brasil
CATEGORIES:Agenda interna,Coro de Câmara Comunicantus
END:VEVENT
BEGIN:VEVENT
DTSTART;TZID=America/Sao_Paulo:20191211T190000
DTEND;TZID=America/Sao_Paulo:20191211T220000
DTSTAMP:20260425T115608
CREATED:20191210T160526Z
LAST-MODIFIED:20191210T161830Z
UID:1206-1576090800-1576101600@comunicantus.eca.usp.br
SUMMARY:Ensaio geral 1 com Coralusp e orquestra no CDI
DESCRIPTION:Agenda Completa\n\n\n\nAtividade\nData\nHorário\nLocal\n\n\nEnsaio com Coralusp\n10/12 (terça)\n19h-22h\nAnfiteatro Camargo Guarnieri\n\n\nEnsaio Geral 1 com Coralusp e orquestra\n11/12 (quarta)\n19h-22h\nAuditório CDI-USP\n\n\nEnsaio Geral 2 com Coralusp e orquestra\n12/12 (quinta)\n19h-22h\nAuditório CDI-USP\n\n\nConcerto\n14/12 (sábado)\nA confirmar\nSala São Paulo
URL:https://comunicantus.eca.usp.br/index.php/event/ensaio-geral-1-com-coralusp-e-orquestra-no-cdi/
LOCATION:Auditório CDI-USP\, Av. Prof. Lúcio Martins Rodrigues\, 310 - Butantã\, São Paulo\, São Paulo\, 05508-020\, Brasil
CATEGORIES:Agenda interna,Coro de Câmara Comunicantus
END:VEVENT
BEGIN:VEVENT
DTSTART;TZID=America/Sao_Paulo:20191212T190000
DTEND;TZID=America/Sao_Paulo:20191212T220000
DTSTAMP:20260425T115608
CREATED:20191210T160648Z
LAST-MODIFIED:20191210T161824Z
UID:1209-1576177200-1576188000@comunicantus.eca.usp.br
SUMMARY:Ensaio geral 2 com Coralusp e orquestra no CDI
DESCRIPTION:Agenda Completa\n\n\n\nAtividade\nData\nHorário\nLocal\n\n\nEnsaio com Coralusp\n10/12 (terça)\n19h-22h\nAnfiteatro Camargo Guarnieri\n\n\nEnsaio Geral 1 com Coralusp e orquestra\n11/12 (quarta)\n19h-22h\nAuditório CDI-USP\n\n\nEnsaio Geral 2 com Coralusp e orquestra\n12/12 (quinta)\n19h-22h\nAuditório CDI-USP\n\n\nConcerto\n14/12 (sábado)\nA confirmar\nSala São Paulo
URL:https://comunicantus.eca.usp.br/index.php/event/ensaio-geral-2-com-coralusp-e-orquestra-no-cdi/
LOCATION:Auditório CDI-USP\, Av. Prof. Lúcio Martins Rodrigues\, 310 - Butantã\, São Paulo\, São Paulo\, 05508-020\, Brasil
CATEGORIES:Agenda interna,Coro de Câmara Comunicantus
END:VEVENT
BEGIN:VEVENT
DTSTART;VALUE=DATE:20191214
DTEND;VALUE=DATE:20191215
DTSTAMP:20260425T115608
CREATED:20191210T160753Z
LAST-MODIFIED:20191212T193534Z
UID:1211-1576281600-1576367999@comunicantus.eca.usp.br
SUMMARY:Concerto na Sala São Paulo
DESCRIPTION:Roteiro para o dia\n\n\n\nAtividade\nHorário\nLocal\n\n\nSaída do Ônibus\n17h30\nECA\n\n\nAquecimento\n18h30\nSala Carlos Gomes (Sala São Paulo)\n\n\nEnsaio Geral\n19h30\nPalco (Sala São Paulo)\n\n\nConcerto\n21h00\nPalco (Sala São Paulo)
URL:https://comunicantus.eca.usp.br/index.php/event/concerto-na-sala-sao-paulo/
LOCATION:Sala São Paulo\, Praça Júlio Prestes\, 16 - Campos Elíseos\, São Paulo\, São Paulo\, 01218-020\, Brasil
CATEGORIES:Agenda interna,Coro de Câmara Comunicantus
END:VEVENT
BEGIN:VEVENT
DTSTART;TZID=America/Sao_Paulo:20191214T210000
DTEND;TZID=America/Sao_Paulo:20191214T223000
DTSTAMP:20260425T115608
CREATED:20190415T153057Z
LAST-MODIFIED:20190924T184941Z
UID:724-1576357200-1576362600@comunicantus.eca.usp.br
SUMMARY:Temporada OSUSP 2019
DESCRIPTION:Apresentação da Orquestra Sinfônica da USP em parceria com a OCAM\, o Coro de Câmara Comunicantus e o CoralUsp. Regência: Gil Jardim \nRepertório: \nGABRIEL FAURÉ (1845-1924)\nPavane\, op. 50 (1887) \nGABRIEL FAURÉ (1845-1924)\nCantique de Jean Racine\, op. 11 (1865) \nALEXANDER BORODIN (1833-1887)\nDanças Polovitzianas com Coro (de ‘Prince Igor’) (1890) \nMODEST MUSSORGSKY (1839-1881)\nQuadros de uma Exposição (1874) (orquestração: Maurice Ravel) \n* Programação sujeita a alterações
URL:https://comunicantus.eca.usp.br/index.php/event/temporada-osusp-2019/
LOCATION:Sala São Paulo\, Praça Júlio Prestes\, 16 - Campos Elíseos\, São Paulo\, São Paulo\, 01218-020\, Brasil
CATEGORIES:Agenda pública,Coro de Câmara Comunicantus
ATTACH;FMTTYPE=image/jpeg:https://comunicantus.eca.usp.br/wp-content/uploads/2019/04/osusp.jpg
END:VEVENT
BEGIN:VEVENT
DTSTART;TZID=America/Sao_Paulo:20200306T140000
DTEND;TZID=America/Sao_Paulo:20200306T160000
DTSTAMP:20260425T115608
CREATED:20200103T201914Z
LAST-MODIFIED:20200103T201914Z
UID:1230-1583503200-1583510400@comunicantus.eca.usp.br
SUMMARY:Coral da Terceira Idade da USP: testes para novos coralistas
DESCRIPTION:O Comunicantus: Laboratório Coral divulga as datas dos testes para novos coralistas para o Coral da Terceira Idade da USP. \nO Coral da Terceira Idade da USP ensaia toda sexta-feira\, das 14h00 às 16h00 no Departamento de Música da ECA/USP. \nOs testes ocorrerão no dia 6 de março às 14h00. \n\nData: 6 de Março de 2020\nHorário: 14h00\nLocal: Departamento de Música da ECA\, Sala 14A \nPara informações adicionais\, entrar em contato com a secretaria do Comunicantus:\nTel.: (11) 3091-4005\nE-mail: comunicantus.usp@gmail.com
URL:https://comunicantus.eca.usp.br/index.php/event/coral-da-terceira-idade-da-usp-testes-para-novos-coralistas/
LOCATION:Departamento de Música da ECA-USP (Sala 14-A)\, R. da Reitoria\, 215 - Butantã\, São Paulo\, São Paulo\, 05508-900\, Brasil
CATEGORIES:Agenda pública,Coral da Terceira Idade da USP
END:VEVENT
BEGIN:VEVENT
DTSTART;TZID=America/Sao_Paulo:20200306T180000
DTEND;TZID=America/Sao_Paulo:20200306T204000
DTSTAMP:20260425T115608
CREATED:20200103T201529Z
LAST-MODIFIED:20200103T201529Z
UID:1224-1583517600-1583527200@comunicantus.eca.usp.br
SUMMARY:Coral Escola Comunicantus: testes para novos coralistas
DESCRIPTION:O Comunicantus: Laboratório Coral divulga as datas dos testes para novos coralistas para o Coral Escola Comunicantus. \nO Coral Escola Comunicantus ensaia toda sexta-feira\, das 18h30 às 20h40 no Departamento de Música da ECA/USP. \nOs testes ocorrerão nos dias 6 e 13 de março às 18h00. É necessário que os candidatos permaneçam no ensaio após o teste. \n\nDatas: 6 e 13 de Março de 2020\nHorário: 18h00\nLocal: Departamento de Música da ECA\, Sala 14A \nPara informações adicionais\, entrar em contato com a secretaria do Comunicantus:\nTel.: (11) 3091-4005\nE-mail: comunicantus.usp@gmail.com
URL:https://comunicantus.eca.usp.br/index.php/event/coral-escola-comunicantus-testes-para-novos-coralistas/
LOCATION:Departamento de Música da ECA-USP (Sala 14-A)\, R. da Reitoria\, 215 - Butantã\, São Paulo\, São Paulo\, 05508-900\, Brasil
CATEGORIES:Agenda pública,Coral Escola Comunicantus
END:VEVENT
BEGIN:VEVENT
DTSTART;TZID=America/Sao_Paulo:20200313T180000
DTEND;TZID=America/Sao_Paulo:20200313T204000
DTSTAMP:20260425T115608
CREATED:20200103T201640Z
LAST-MODIFIED:20200313T181222Z
UID:1228-1584122400-1584132000@comunicantus.eca.usp.br
SUMMARY:CANCELADO - Coral Escola Comunicantus: testes para novos coralistas
DESCRIPTION:O Comunicantus: Laboratório Coral divulga as datas dos testes para novos coralistas para o Coral Escola Comunicantus. \nO Coral Escola Comunicantus ensaia toda sexta-feira\, das 18h30 às 20h40 no Departamento de Música da ECA/USP. \nOs testes ocorrerão nos dias 6 e 13 de março às 18h00. É necessário que os candidatos permaneçam no ensaio após o teste. \n\nDatas: 6 e 13 de Março de 2020\nHorário: 18h00\nLocal: Departamento de Música da ECA\, Sala 14A \nPara informações adicionais\, entrar em contato com a secretaria do Comunicantus:\nTel.: (11) 3091-4005\nE-mail: comunicantus.usp@gmail.com
URL:https://comunicantus.eca.usp.br/index.php/event/coral-escola-comunicantus-testes-para-novos-coralistas-2/
LOCATION:Departamento de Música da ECA-USP (Sala 14-A)\, R. da Reitoria\, 215 - Butantã\, São Paulo\, São Paulo\, 05508-900\, Brasil
CATEGORIES:Agenda pública,Coral Escola Comunicantus
END:VEVENT
BEGIN:VEVENT
DTSTART;TZID=America/Sao_Paulo:20200324T090000
DTEND;TZID=America/Sao_Paulo:20200324T110000
DTSTAMP:20260425T115608
CREATED:20200206T161954Z
LAST-MODIFIED:20200206T161954Z
UID:1248-1585040400-1585047600@comunicantus.eca.usp.br
SUMMARY:Visita monitorada à ECA-USP
DESCRIPTION:Coro de Câmara Comunicantus \n Regente titular e diretor artístico: Marco Antonio da Silva Ramos \nRegentes assistentes: José Luís Ribalta e Denise Oliveira Cocareli \nPreparadoras vocais: Regina Lucatto e Anne Karoline Moreira \nCoordenadora do projeto: Susana Cecilia Igayara-Souza \nPROGRAMA:  \nTema paraense. Arranjo: Ernst Mahle \nJacaré (da Suíte Carimbó) \nRegência: José Luiz Ribalta \nJohn Lennon e Paul McCartney. Arranjo: Marcos Leite \nShe’s leaving home \nRegência: Marco Antonio da Silva Ramos \nOsvaldo Lacerda  \nCateretê (da Suíte Coral Nº 1)*  \nRegência: Denise Castilho Cocarelli \nCORO DE CÂMARA COMUNICANTUS \nIdealizado pelo Professor Titular Sênior em Regência Coral\, Marco Antonio da Silva Ramos\, e coordenado pela Professora Dra. Susana Cecilia Igayara-Souza\, integra o Comunicantus: laboratório coral do CMU-ECA-USP desde 2013. É formado por bolsistas do Programa Unificado de Bolsas da USP e pós-graduandos assistentes. Em 2019 recebeu o Prêmio Destaque do Festival da Música Contemporânea Brasileira\, realizado em Campinas\, com programa dedicado ao compositor Ernani Aguiar. Tem estreado obras contemporâneas\, divulgado a música brasileira e recebido convidados internacionais\, promovendo a especialização no repertório camerístico e atuando como coro de referência em festivais corais.  Em 2019 participou do Encontro de Corais do Sesc Santos\, em 2018 atuou como coro de referência no Festival Internacional de Coros de Maringá e em 2017 foi o coro convidado do Encontro Coral da Universidade Federal do Mato Grosso do Sul\, apresentando-se com o músico convidado Edelton Gloeden\, violonista.
URL:https://comunicantus.eca.usp.br/index.php/event/visita-monitorada-a-eca-usp/
LOCATION:Auditório CDI-USP\, Av. Prof. Lúcio Martins Rodrigues\, 310 - Butantã\, São Paulo\, São Paulo\, 05508-020\, Brasil
CATEGORIES:Agenda pública,Coro de Câmara Comunicantus
ATTACH;FMTTYPE=image/jpeg:https://comunicantus.eca.usp.br/wp-content/uploads/2020/02/escada-cdi-usp.jpg
END:VEVENT
BEGIN:VEVENT
DTSTART;TZID=America/Sao_Paulo:20200324T090000
DTEND;TZID=America/Sao_Paulo:20200324T110000
DTSTAMP:20260425T115608
CREATED:20200206T162147Z
LAST-MODIFIED:20200206T162147Z
UID:1251-1585040400-1585047600@comunicantus.eca.usp.br
SUMMARY:Visita monitorada à ECA-USP
DESCRIPTION:
URL:https://comunicantus.eca.usp.br/index.php/event/visita-monitorada-a-eca-usp-2/
LOCATION:Auditório CDI-USP\, Av. Prof. Lúcio Martins Rodrigues\, 310 - Butantã\, São Paulo\, São Paulo\, 05508-020\, Brasil
CATEGORIES:Agenda interna,Coro de Câmara Comunicantus
END:VEVENT
BEGIN:VEVENT
DTSTART;VALUE=DATE:20200719
DTEND;VALUE=DATE:20200808
DTSTAMP:20260425T115608
CREATED:20200721T175211Z
LAST-MODIFIED:20200721T175211Z
UID:1643-1595116800-1596844799@comunicantus.eca.usp.br
SUMMARY:INSCRIÇÃO PARA BOLSAS PUB - CORO DE CÂMARA COMUNICANTUS
DESCRIPTION:Alunos de graduação da USP podem se candidatar a uma bolsa do projeto PUB Coro de Câmara Comunicantus como espaço de (re)invenção.\n1) eixo de performance – pianista\, coralistas\n2) eixo de produção de material didático – conhecimento de mídias sociais\, programas de edição de áudio e vídeo. \nComo se inscrever: no sistema Júpiter\, selecionar o projeto 1256: Coro de Câmara Comunicantus como espaço de (re)invenção. Enviar email para comunicantus@usp.br com pequeno histórico de formação\, carta de motivação e bolsa pretendida (com naipe no caso de ser coralista).
URL:https://comunicantus.eca.usp.br/index.php/event/inscricao-para-bolsas-pub-coro-de-camara-comunicantus/
END:VEVENT
BEGIN:VEVENT
DTSTART;TZID=America/Sao_Paulo:20220708T200000
DTEND;TZID=America/Sao_Paulo:20220708T203000
DTSTAMP:20260425T115608
CREATED:20220708T110044Z
LAST-MODIFIED:20220706T111738Z
UID:2256-1657310400-1657312200@comunicantus.eca.usp.br
SUMMARY:Encerramento do 1o semestre de 2022: estreia de vídeos 08/07/2022
DESCRIPTION:
URL:https://comunicantus.eca.usp.br/index.php/event/encerramento-do-1o-semestre-de-2022-estreia-de-videos-08-07-2022/
LOCATION:Online no YouTube do Comunicantus
CATEGORIES:Agenda pública,Coral Escola Comunicantus,Coral Universitário Comunicantus,Coro de Câmara Comunicantus
END:VEVENT
END:VCALENDAR